BEGIN:VCALENDAR
VERSION:2.0
PRODID:-//jEvents 2.0 for Joomla//EN
CALSCALE:GREGORIAN
METHOD:PUBLISH
BEGIN:VTIMEZONE
TZID:Europe/Berlin
END:VTIMEZONE
BEGIN:VEVENT
UID:5620ec0925cd883b67769670e68b6fd4
CATEGORIES:Fortbildung
SUMMARY:Herzinsuffizienz u. Niere
LOCATION:Fa. Vifor Pharma zsm. mit Novartis
DESCRIPTION;ENCODING=QUOTED-PRINTABLE:<strong><span style="text-decoration: underline;">Thema:</span></strong>   
      „Herzinsuffizienz - Herz-Retter&Nieren-Freund"<br /><span style="text-
 decoration: underline;"><strong><br />Referenten:</strong></span> <strong>H
 err Dr. Alexander Rixe</strong>, Facharzt für Innere Medizin / Kardiologie,
 <br />                   Ambulantes Herzzentrum Braunschweig<br />         
           <strong>Herr Prof. Dr. Jan T. Kielstein</strong>, Chefarzt Nephro
 logie,<br />                   Städtisches Klinikum Braunschweig<br /><span
  style="text-decoration: underline;"><strong><br />Programm:</strong></span
 > 19:00 Uhr Begrüßung<br />                  19:15 - 20:00 Uhr Aktuelle Lei
 tlinien und neue Ansätze in der Therapie<br />                             
                der Herzinsuffizienz, Hr. Dr. Rixe<br />                  20
 :00 - 20:15 Uhr Pause<br />                  20:15 - 21:00 Uhr Neuer Wirkan
 satz bei chronischer Herzinsuffizienz<br />                                
             mit Therapie erhöhter Kaliumwerte, Hr. Prof. Dr. Kielstein<br /
 >                  21:00 - 21:45 Uhr Diskussion, Lernzielkontrolle, Evaluat
 ion<br /><br /><span style="text-decoration: underline;"><strong>Ort:</stro
 ng></span> Best Western Hotel Braunschweig Seminarius, Hauptstraße 48 B, 38
 110 BS<br /><span style="text-decoration: underline;"><strong><br />Zeit:</
 strong></span> am 29.06.2022 um 19:00 Uhr
DTSTAMP:20260422T151449Z
DTSTART;TZID=Europe/Berlin:20220629T190000
SEQUENCE:0
TRANSP:OPAQUE
END:VEVENT
END:VCALENDAR