BEGIN:VCALENDAR
VERSION:2.0
PRODID:-//jEvents 2.0 for Joomla//EN
CALSCALE:GREGORIAN
METHOD:PUBLISH
BEGIN:VTIMEZONE
TZID:Europe/Berlin
END:VTIMEZONE
BEGIN:VEVENT
UID:1ba32bfefd4cdabc4cd3d3adbaac02c8
CATEGORIES:Fortbildung
SUMMARY:Update Herzinsuffizienz 2022
LOCATION:Waldhaus Oelper, Am Ölper Holze 1, 38116 Braunschweig
DESCRIPTION;ENCODING=QUOTED-PRINTABLE:Thema:  Update Herzinsuffizienz 2022\n\nReferent:  Prof. Dr. med. Matthias 
 Heintzen, Chefarzt Kardiologie und Angiologie\n                Städtisches 
 Klinikum Braunschweig gGmbH \n\nArt der Veranstaltung: Präsenz\n\nProgramm:
   19:00 - 19:10 Uhr Begrüßung\n                   19:10 - 20:30 Uhr Vortrag
  Update Herzinsuffizienz, Herr Prof. Dr. med. Heintzen\n                   
 20:30 - 21:00 Uhr Diskussion und Fragen, Kasuistiken\n                   21
 :00 - 21:15 Uhr Lernzielkontrolle, Evaluation\n                   ab 21:15 
 Uhr Diskussion interessanter Fälle aus der eigenen Praxis
X-EXTRAINFO:Frau Büttner / Boehringer-Ingelheim / Lilly
DTSTAMP:20260422T171838Z
DTSTART;TZID=Europe/Berlin:20220615T190000
SEQUENCE:0
TRANSP:OPAQUE
END:VEVENT
END:VCALENDAR